BEGIN:VCALENDAR
VERSION:2.0
PRODID:-//Bektash Shriners - ECPv6.15.1.1//NONSGML v1.0//EN
CALSCALE:GREGORIAN
METHOD:PUBLISH
X-ORIGINAL-URL:https://bektashshriners.org
X-WR-CALDESC:Events for Bektash Shriners
REFRESH-INTERVAL;VALUE=DURATION:PT1H
X-Robots-Tag:noindex
X-PUBLISHED-TTL:PT1H
BEGIN:VTIMEZONE
TZID:America/New_York
BEGIN:DAYLIGHT
TZOFFSETFROM:-0500
TZOFFSETTO:-0400
TZNAME:EDT
DTSTART:20260308T070000
END:DAYLIGHT
BEGIN:STANDARD
TZOFFSETFROM:-0400
TZOFFSETTO:-0500
TZNAME:EST
DTSTART:20261101T060000
END:STANDARD
END:VTIMEZONE
BEGIN:VEVENT
DTSTART;TZID=America/New_York:20260321T160000
DTEND;TZID=America/New_York:20260321T230000
DTSTAMP:20260425T093225
CREATED:20260201T182553Z
LAST-MODIFIED:20260201T182554Z
UID:10000724-1774108800-1774134000@bektashshriners.org
SUMMARY:St. Patricks Day Corned Beef & Cabbage and Pound Auction
DESCRIPTION:
URL:https://bektashshriners.org/event/st-patricks-day-corned-beef-cabbage-and-pound-auction/
LOCATION:Bektash Shrine Center\, 189 Pembroke Road\, Concord\, NH\, 03302\, United States
CATEGORIES:Bektash Events
GEO:43.2147123;-71.486426
X-APPLE-STRUCTURED-LOCATION;VALUE=URI;X-ADDRESS=Bektash Shrine Center 189 Pembroke Road Concord NH 03302 United States;X-APPLE-RADIUS=500;X-TITLE=189 Pembroke Road:geo:-71.486426,43.2147123
END:VEVENT
BEGIN:VEVENT
DTSTART;VALUE=DATE:20260312
DTEND;VALUE=DATE:20260316
DTSTAMP:20260425T093225
CREATED:20260201T185543Z
LAST-MODIFIED:20260201T185939Z
UID:10000726-1773273600-1773619199@bektashshriners.org
SUMMARY:2026 NSA Mid Winter
DESCRIPTION:
URL:https://bektashshriners.org/event/2026-nsa-mid-winter/
LOCATION:Emerald Resort\, 35 Scutter Ave\, Hyannis\, MA\, 02601\, United States
CATEGORIES:Bektash Events
GEO:41.6456299;-70.2968345
X-APPLE-STRUCTURED-LOCATION;VALUE=URI;X-ADDRESS=Emerald Resort 35 Scutter Ave Hyannis MA 02601 United States;X-APPLE-RADIUS=500;X-TITLE=35 Scutter Ave:geo:-70.2968345,41.6456299
END:VEVENT
BEGIN:VEVENT
DTSTART;TZID=America/New_York:20260308T073000
DTEND;TZID=America/New_York:20260308T100000
DTSTAMP:20260425T093225
CREATED:20250624T174408Z
LAST-MODIFIED:20250624T174408Z
UID:10000687-1772955000-1772964000@bektashshriners.org
SUMMARY:Bektash Breakfast Buffet
DESCRIPTION:
URL:https://bektashshriners.org/event/bektash-breakfast-buffet/2026-03-08/
LOCATION:Bektash Shrine Center\, 189 Pembroke Road\, Concord\, NH\, 03302\, United States
CATEGORIES:Bektash Events
ORGANIZER;CN="Bektash Chefs":MAILTO:dixiedoo18@yahoo.com
GEO:43.2147123;-71.486426
X-APPLE-STRUCTURED-LOCATION;VALUE=URI;X-ADDRESS=Bektash Shrine Center 189 Pembroke Road Concord NH 03302 United States;X-APPLE-RADIUS=500;X-TITLE=189 Pembroke Road:geo:-71.486426,43.2147123
END:VEVENT
BEGIN:VEVENT
DTSTART;TZID=America/New_York:20260214T170000
DTEND;TZID=America/New_York:20260214T220000
DTSTAMP:20260425T093225
CREATED:20260201T173557Z
LAST-MODIFIED:20260201T173812Z
UID:10000723-1771088400-1771106400@bektashshriners.org
SUMMARY:Potentate's Valentine Ball
DESCRIPTION:  \nhttps://www.zeffy.com/en-US/ticketing/potentates-valentines-ball
URL:https://bektashshriners.org/event/potentates-valentine-ball/
LOCATION:Bektash Shrine Center\, 189 Pembroke Road\, Concord\, NH\, 03302\, United States
CATEGORIES:Bektash Events
GEO:43.2147123;-71.486426
X-APPLE-STRUCTURED-LOCATION;VALUE=URI;X-ADDRESS=Bektash Shrine Center 189 Pembroke Road Concord NH 03302 United States;X-APPLE-RADIUS=500;X-TITLE=189 Pembroke Road:geo:-71.486426,43.2147123
END:VEVENT
END:VCALENDAR