BEGIN:VCALENDAR
VERSION:2.0
PRODID:-//Bektash Shriners - ECPv6.15.1.1//NONSGML v1.0//EN
CALSCALE:GREGORIAN
METHOD:PUBLISH
X-WR-CALNAME:Bektash Shriners
X-ORIGINAL-URL:https://bektashshriners.org
X-WR-CALDESC:Events for Bektash Shriners
REFRESH-INTERVAL;VALUE=DURATION:PT1H
X-Robots-Tag:noindex
X-PUBLISHED-TTL:PT1H
BEGIN:VTIMEZONE
TZID:America/New_York
BEGIN:DAYLIGHT
TZOFFSETFROM:-0500
TZOFFSETTO:-0400
TZNAME:EDT
DTSTART:20260308T070000
END:DAYLIGHT
BEGIN:STANDARD
TZOFFSETFROM:-0400
TZOFFSETTO:-0500
TZNAME:EST
DTSTART:20261101T060000
END:STANDARD
BEGIN:DAYLIGHT
TZOFFSETFROM:-0500
TZOFFSETTO:-0400
TZNAME:EDT
DTSTART:20270314T070000
END:DAYLIGHT
BEGIN:STANDARD
TZOFFSETFROM:-0400
TZOFFSETTO:-0500
TZNAME:EST
DTSTART:20271107T060000
END:STANDARD
BEGIN:DAYLIGHT
TZOFFSETFROM:-0500
TZOFFSETTO:-0400
TZNAME:EDT
DTSTART:20280312T070000
END:DAYLIGHT
BEGIN:STANDARD
TZOFFSETFROM:-0400
TZOFFSETTO:-0500
TZNAME:EST
DTSTART:20281105T060000
END:STANDARD
BEGIN:DAYLIGHT
TZOFFSETFROM:-0500
TZOFFSETTO:-0400
TZNAME:EDT
DTSTART:20290311T070000
END:DAYLIGHT
BEGIN:STANDARD
TZOFFSETFROM:-0400
TZOFFSETTO:-0500
TZNAME:EST
DTSTART:20291104T060000
END:STANDARD
BEGIN:DAYLIGHT
TZOFFSETFROM:-0500
TZOFFSETTO:-0400
TZNAME:EDT
DTSTART:20300310T070000
END:DAYLIGHT
BEGIN:STANDARD
TZOFFSETFROM:-0400
TZOFFSETTO:-0500
TZNAME:EST
DTSTART:20301103T060000
END:STANDARD
BEGIN:DAYLIGHT
TZOFFSETFROM:-0500
TZOFFSETTO:-0400
TZNAME:EDT
DTSTART:20310309T070000
END:DAYLIGHT
BEGIN:STANDARD
TZOFFSETFROM:-0400
TZOFFSETTO:-0500
TZNAME:EST
DTSTART:20311102T060000
END:STANDARD
END:VTIMEZONE
BEGIN:VEVENT
DTSTART;TZID=America/New_York:20260510T073000
DTEND;TZID=America/New_York:20260510T100000
DTSTAMP:20260425T075713
CREATED:20250624T174408Z
LAST-MODIFIED:20250624T174408Z
UID:10000688-1778398200-1778407200@bektashshriners.org
SUMMARY:Bektash Breakfast Buffet
DESCRIPTION:
URL:https://bektashshriners.org/event/bektash-breakfast-buffet/2026-05-10/
LOCATION:Bektash Shrine Center\, 189 Pembroke Road\, Concord\, NH\, 03302\, United States
CATEGORIES:Bektash Events
ORGANIZER;CN="Bektash Chefs":MAILTO:dixiedoo18@yahoo.com
GEO:43.2147123;-71.486426
X-APPLE-STRUCTURED-LOCATION;VALUE=URI;X-ADDRESS=Bektash Shrine Center 189 Pembroke Road Concord NH 03302 United States;X-APPLE-RADIUS=500;X-TITLE=189 Pembroke Road:geo:-71.486426,43.2147123
END:VEVENT
BEGIN:VEVENT
DTSTART;TZID=America/New_York:20260712T073000
DTEND;TZID=America/New_York:20260712T100000
DTSTAMP:20260425T075713
CREATED:20250624T174408Z
LAST-MODIFIED:20250624T174408Z
UID:10000689-1783841400-1783850400@bektashshriners.org
SUMMARY:Bektash Breakfast Buffet
DESCRIPTION:
URL:https://bektashshriners.org/event/bektash-breakfast-buffet/2026-07-12/
LOCATION:Bektash Shrine Center\, 189 Pembroke Road\, Concord\, NH\, 03302\, United States
CATEGORIES:Bektash Events
ORGANIZER;CN="Bektash Chefs":MAILTO:dixiedoo18@yahoo.com
GEO:43.2147123;-71.486426
X-APPLE-STRUCTURED-LOCATION;VALUE=URI;X-ADDRESS=Bektash Shrine Center 189 Pembroke Road Concord NH 03302 United States;X-APPLE-RADIUS=500;X-TITLE=189 Pembroke Road:geo:-71.486426,43.2147123
END:VEVENT
BEGIN:VEVENT
DTSTART;TZID=America/New_York:20260913T073000
DTEND;TZID=America/New_York:20260913T100000
DTSTAMP:20260425T075713
CREATED:20250624T174408Z
LAST-MODIFIED:20250624T174408Z
UID:10000690-1789284600-1789293600@bektashshriners.org
SUMMARY:Bektash Breakfast Buffet
DESCRIPTION:
URL:https://bektashshriners.org/event/bektash-breakfast-buffet/2026-09-13/
LOCATION:Bektash Shrine Center\, 189 Pembroke Road\, Concord\, NH\, 03302\, United States
CATEGORIES:Bektash Events
ORGANIZER;CN="Bektash Chefs":MAILTO:dixiedoo18@yahoo.com
GEO:43.2147123;-71.486426
X-APPLE-STRUCTURED-LOCATION;VALUE=URI;X-ADDRESS=Bektash Shrine Center 189 Pembroke Road Concord NH 03302 United States;X-APPLE-RADIUS=500;X-TITLE=189 Pembroke Road:geo:-71.486426,43.2147123
END:VEVENT
BEGIN:VEVENT
DTSTART;TZID=America/New_York:20261108T073000
DTEND;TZID=America/New_York:20261108T100000
DTSTAMP:20260425T075713
CREATED:20250624T174408Z
LAST-MODIFIED:20250624T174408Z
UID:10000691-1794123000-1794132000@bektashshriners.org
SUMMARY:Bektash Breakfast Buffet
DESCRIPTION:
URL:https://bektashshriners.org/event/bektash-breakfast-buffet/2026-11-08/
LOCATION:Bektash Shrine Center\, 189 Pembroke Road\, Concord\, NH\, 03302\, United States
CATEGORIES:Bektash Events
ORGANIZER;CN="Bektash Chefs":MAILTO:dixiedoo18@yahoo.com
GEO:43.2147123;-71.486426
X-APPLE-STRUCTURED-LOCATION;VALUE=URI;X-ADDRESS=Bektash Shrine Center 189 Pembroke Road Concord NH 03302 United States;X-APPLE-RADIUS=500;X-TITLE=189 Pembroke Road:geo:-71.486426,43.2147123
END:VEVENT
BEGIN:VEVENT
DTSTART;TZID=America/New_York:20270110T073000
DTEND;TZID=America/New_York:20270110T100000
DTSTAMP:20260425T075713
CREATED:20250624T174408Z
LAST-MODIFIED:20250624T174408Z
UID:10000692-1799566200-1799575200@bektashshriners.org
SUMMARY:Bektash Breakfast Buffet
DESCRIPTION:
URL:https://bektashshriners.org/event/bektash-breakfast-buffet/2027-01-10/
LOCATION:Bektash Shrine Center\, 189 Pembroke Road\, Concord\, NH\, 03302\, United States
CATEGORIES:Bektash Events
ORGANIZER;CN="Bektash Chefs":MAILTO:dixiedoo18@yahoo.com
GEO:43.2147123;-71.486426
X-APPLE-STRUCTURED-LOCATION;VALUE=URI;X-ADDRESS=Bektash Shrine Center 189 Pembroke Road Concord NH 03302 United States;X-APPLE-RADIUS=500;X-TITLE=189 Pembroke Road:geo:-71.486426,43.2147123
END:VEVENT
BEGIN:VEVENT
DTSTART;TZID=America/New_York:20270314T073000
DTEND;TZID=America/New_York:20270314T100000
DTSTAMP:20260425T075713
CREATED:20250624T174408Z
LAST-MODIFIED:20250624T174408Z
UID:10000693-1805009400-1805018400@bektashshriners.org
SUMMARY:Bektash Breakfast Buffet
DESCRIPTION:
URL:https://bektashshriners.org/event/bektash-breakfast-buffet/2027-03-14/
LOCATION:Bektash Shrine Center\, 189 Pembroke Road\, Concord\, NH\, 03302\, United States
CATEGORIES:Bektash Events
ORGANIZER;CN="Bektash Chefs":MAILTO:dixiedoo18@yahoo.com
GEO:43.2147123;-71.486426
X-APPLE-STRUCTURED-LOCATION;VALUE=URI;X-ADDRESS=Bektash Shrine Center 189 Pembroke Road Concord NH 03302 United States;X-APPLE-RADIUS=500;X-TITLE=189 Pembroke Road:geo:-71.486426,43.2147123
END:VEVENT
BEGIN:VEVENT
DTSTART;TZID=America/New_York:20270509T073000
DTEND;TZID=America/New_York:20270509T100000
DTSTAMP:20260425T075713
CREATED:20250624T174408Z
LAST-MODIFIED:20250624T174408Z
UID:10000694-1809847800-1809856800@bektashshriners.org
SUMMARY:Bektash Breakfast Buffet
DESCRIPTION:
URL:https://bektashshriners.org/event/bektash-breakfast-buffet/2027-05-09/
LOCATION:Bektash Shrine Center\, 189 Pembroke Road\, Concord\, NH\, 03302\, United States
CATEGORIES:Bektash Events
ORGANIZER;CN="Bektash Chefs":MAILTO:dixiedoo18@yahoo.com
GEO:43.2147123;-71.486426
X-APPLE-STRUCTURED-LOCATION;VALUE=URI;X-ADDRESS=Bektash Shrine Center 189 Pembroke Road Concord NH 03302 United States;X-APPLE-RADIUS=500;X-TITLE=189 Pembroke Road:geo:-71.486426,43.2147123
END:VEVENT
BEGIN:VEVENT
DTSTART;TZID=America/New_York:20270711T073000
DTEND;TZID=America/New_York:20270711T100000
DTSTAMP:20260425T075713
CREATED:20250624T174408Z
LAST-MODIFIED:20250624T174408Z
UID:10000695-1815291000-1815300000@bektashshriners.org
SUMMARY:Bektash Breakfast Buffet
DESCRIPTION:
URL:https://bektashshriners.org/event/bektash-breakfast-buffet/2027-07-11/
LOCATION:Bektash Shrine Center\, 189 Pembroke Road\, Concord\, NH\, 03302\, United States
CATEGORIES:Bektash Events
ORGANIZER;CN="Bektash Chefs":MAILTO:dixiedoo18@yahoo.com
GEO:43.2147123;-71.486426
X-APPLE-STRUCTURED-LOCATION;VALUE=URI;X-ADDRESS=Bektash Shrine Center 189 Pembroke Road Concord NH 03302 United States;X-APPLE-RADIUS=500;X-TITLE=189 Pembroke Road:geo:-71.486426,43.2147123
END:VEVENT
BEGIN:VEVENT
DTSTART;TZID=America/New_York:20270912T073000
DTEND;TZID=America/New_York:20270912T100000
DTSTAMP:20260425T075713
CREATED:20250624T174408Z
LAST-MODIFIED:20250624T174408Z
UID:10000696-1820734200-1820743200@bektashshriners.org
SUMMARY:Bektash Breakfast Buffet
DESCRIPTION:
URL:https://bektashshriners.org/event/bektash-breakfast-buffet/2027-09-12/
LOCATION:Bektash Shrine Center\, 189 Pembroke Road\, Concord\, NH\, 03302\, United States
CATEGORIES:Bektash Events
ORGANIZER;CN="Bektash Chefs":MAILTO:dixiedoo18@yahoo.com
GEO:43.2147123;-71.486426
X-APPLE-STRUCTURED-LOCATION;VALUE=URI;X-ADDRESS=Bektash Shrine Center 189 Pembroke Road Concord NH 03302 United States;X-APPLE-RADIUS=500;X-TITLE=189 Pembroke Road:geo:-71.486426,43.2147123
END:VEVENT
BEGIN:VEVENT
DTSTART;TZID=America/New_York:20271114T073000
DTEND;TZID=America/New_York:20271114T100000
DTSTAMP:20260425T075713
CREATED:20250624T174408Z
LAST-MODIFIED:20250624T174408Z
UID:10000697-1826177400-1826186400@bektashshriners.org
SUMMARY:Bektash Breakfast Buffet
DESCRIPTION:
URL:https://bektashshriners.org/event/bektash-breakfast-buffet/2027-11-14/
LOCATION:Bektash Shrine Center\, 189 Pembroke Road\, Concord\, NH\, 03302\, United States
CATEGORIES:Bektash Events
ORGANIZER;CN="Bektash Chefs":MAILTO:dixiedoo18@yahoo.com
GEO:43.2147123;-71.486426
X-APPLE-STRUCTURED-LOCATION;VALUE=URI;X-ADDRESS=Bektash Shrine Center 189 Pembroke Road Concord NH 03302 United States;X-APPLE-RADIUS=500;X-TITLE=189 Pembroke Road:geo:-71.486426,43.2147123
END:VEVENT
BEGIN:VEVENT
DTSTART;TZID=America/New_York:20280109T073000
DTEND;TZID=America/New_York:20280109T100000
DTSTAMP:20260425T075713
CREATED:20250624T174408Z
LAST-MODIFIED:20250624T174408Z
UID:10000698-1831015800-1831024800@bektashshriners.org
SUMMARY:Bektash Breakfast Buffet
DESCRIPTION:
URL:https://bektashshriners.org/event/bektash-breakfast-buffet/2028-01-09/
LOCATION:Bektash Shrine Center\, 189 Pembroke Road\, Concord\, NH\, 03302\, United States
CATEGORIES:Bektash Events
ORGANIZER;CN="Bektash Chefs":MAILTO:dixiedoo18@yahoo.com
GEO:43.2147123;-71.486426
X-APPLE-STRUCTURED-LOCATION;VALUE=URI;X-ADDRESS=Bektash Shrine Center 189 Pembroke Road Concord NH 03302 United States;X-APPLE-RADIUS=500;X-TITLE=189 Pembroke Road:geo:-71.486426,43.2147123
END:VEVENT
BEGIN:VEVENT
DTSTART;TZID=America/New_York:20280312T073000
DTEND;TZID=America/New_York:20280312T100000
DTSTAMP:20260425T075713
CREATED:20250624T174408Z
LAST-MODIFIED:20250624T174408Z
UID:10000699-1836459000-1836468000@bektashshriners.org
SUMMARY:Bektash Breakfast Buffet
DESCRIPTION:
URL:https://bektashshriners.org/event/bektash-breakfast-buffet/2028-03-12/
LOCATION:Bektash Shrine Center\, 189 Pembroke Road\, Concord\, NH\, 03302\, United States
CATEGORIES:Bektash Events
ORGANIZER;CN="Bektash Chefs":MAILTO:dixiedoo18@yahoo.com
GEO:43.2147123;-71.486426
X-APPLE-STRUCTURED-LOCATION;VALUE=URI;X-ADDRESS=Bektash Shrine Center 189 Pembroke Road Concord NH 03302 United States;X-APPLE-RADIUS=500;X-TITLE=189 Pembroke Road:geo:-71.486426,43.2147123
END:VEVENT
BEGIN:VEVENT
DTSTART;TZID=America/New_York:20280514T073000
DTEND;TZID=America/New_York:20280514T100000
DTSTAMP:20260425T075713
CREATED:20250624T174408Z
LAST-MODIFIED:20250624T174408Z
UID:10000700-1841902200-1841911200@bektashshriners.org
SUMMARY:Bektash Breakfast Buffet
DESCRIPTION:
URL:https://bektashshriners.org/event/bektash-breakfast-buffet/2028-05-14/
LOCATION:Bektash Shrine Center\, 189 Pembroke Road\, Concord\, NH\, 03302\, United States
CATEGORIES:Bektash Events
ORGANIZER;CN="Bektash Chefs":MAILTO:dixiedoo18@yahoo.com
GEO:43.2147123;-71.486426
X-APPLE-STRUCTURED-LOCATION;VALUE=URI;X-ADDRESS=Bektash Shrine Center 189 Pembroke Road Concord NH 03302 United States;X-APPLE-RADIUS=500;X-TITLE=189 Pembroke Road:geo:-71.486426,43.2147123
END:VEVENT
BEGIN:VEVENT
DTSTART;TZID=America/New_York:20280709T073000
DTEND;TZID=America/New_York:20280709T100000
DTSTAMP:20260425T075713
CREATED:20250624T174408Z
LAST-MODIFIED:20250624T174408Z
UID:10000701-1846740600-1846749600@bektashshriners.org
SUMMARY:Bektash Breakfast Buffet
DESCRIPTION:
URL:https://bektashshriners.org/event/bektash-breakfast-buffet/2028-07-09/
LOCATION:Bektash Shrine Center\, 189 Pembroke Road\, Concord\, NH\, 03302\, United States
CATEGORIES:Bektash Events
ORGANIZER;CN="Bektash Chefs":MAILTO:dixiedoo18@yahoo.com
GEO:43.2147123;-71.486426
X-APPLE-STRUCTURED-LOCATION;VALUE=URI;X-ADDRESS=Bektash Shrine Center 189 Pembroke Road Concord NH 03302 United States;X-APPLE-RADIUS=500;X-TITLE=189 Pembroke Road:geo:-71.486426,43.2147123
END:VEVENT
BEGIN:VEVENT
DTSTART;TZID=America/New_York:20280910T073000
DTEND;TZID=America/New_York:20280910T100000
DTSTAMP:20260425T075713
CREATED:20250624T174408Z
LAST-MODIFIED:20250624T174408Z
UID:10000702-1852183800-1852192800@bektashshriners.org
SUMMARY:Bektash Breakfast Buffet
DESCRIPTION:
URL:https://bektashshriners.org/event/bektash-breakfast-buffet/2028-09-10/
LOCATION:Bektash Shrine Center\, 189 Pembroke Road\, Concord\, NH\, 03302\, United States
CATEGORIES:Bektash Events
ORGANIZER;CN="Bektash Chefs":MAILTO:dixiedoo18@yahoo.com
GEO:43.2147123;-71.486426
X-APPLE-STRUCTURED-LOCATION;VALUE=URI;X-ADDRESS=Bektash Shrine Center 189 Pembroke Road Concord NH 03302 United States;X-APPLE-RADIUS=500;X-TITLE=189 Pembroke Road:geo:-71.486426,43.2147123
END:VEVENT
BEGIN:VEVENT
DTSTART;TZID=America/New_York:20281112T073000
DTEND;TZID=America/New_York:20281112T100000
DTSTAMP:20260425T075713
CREATED:20250624T174408Z
LAST-MODIFIED:20250624T174408Z
UID:10000703-1857627000-1857636000@bektashshriners.org
SUMMARY:Bektash Breakfast Buffet
DESCRIPTION:
URL:https://bektashshriners.org/event/bektash-breakfast-buffet/2028-11-12/
LOCATION:Bektash Shrine Center\, 189 Pembroke Road\, Concord\, NH\, 03302\, United States
CATEGORIES:Bektash Events
ORGANIZER;CN="Bektash Chefs":MAILTO:dixiedoo18@yahoo.com
GEO:43.2147123;-71.486426
X-APPLE-STRUCTURED-LOCATION;VALUE=URI;X-ADDRESS=Bektash Shrine Center 189 Pembroke Road Concord NH 03302 United States;X-APPLE-RADIUS=500;X-TITLE=189 Pembroke Road:geo:-71.486426,43.2147123
END:VEVENT
BEGIN:VEVENT
DTSTART;TZID=America/New_York:20290114T073000
DTEND;TZID=America/New_York:20290114T100000
DTSTAMP:20260425T075713
CREATED:20250624T174408Z
LAST-MODIFIED:20250624T174408Z
UID:10000704-1863070200-1863079200@bektashshriners.org
SUMMARY:Bektash Breakfast Buffet
DESCRIPTION:
URL:https://bektashshriners.org/event/bektash-breakfast-buffet/2029-01-14/
LOCATION:Bektash Shrine Center\, 189 Pembroke Road\, Concord\, NH\, 03302\, United States
CATEGORIES:Bektash Events
ORGANIZER;CN="Bektash Chefs":MAILTO:dixiedoo18@yahoo.com
GEO:43.2147123;-71.486426
X-APPLE-STRUCTURED-LOCATION;VALUE=URI;X-ADDRESS=Bektash Shrine Center 189 Pembroke Road Concord NH 03302 United States;X-APPLE-RADIUS=500;X-TITLE=189 Pembroke Road:geo:-71.486426,43.2147123
END:VEVENT
BEGIN:VEVENT
DTSTART;TZID=America/New_York:20290311T073000
DTEND;TZID=America/New_York:20290311T100000
DTSTAMP:20260425T075713
CREATED:20250624T174408Z
LAST-MODIFIED:20250624T174408Z
UID:10000705-1867908600-1867917600@bektashshriners.org
SUMMARY:Bektash Breakfast Buffet
DESCRIPTION:
URL:https://bektashshriners.org/event/bektash-breakfast-buffet/2029-03-11/
LOCATION:Bektash Shrine Center\, 189 Pembroke Road\, Concord\, NH\, 03302\, United States
CATEGORIES:Bektash Events
ORGANIZER;CN="Bektash Chefs":MAILTO:dixiedoo18@yahoo.com
GEO:43.2147123;-71.486426
X-APPLE-STRUCTURED-LOCATION;VALUE=URI;X-ADDRESS=Bektash Shrine Center 189 Pembroke Road Concord NH 03302 United States;X-APPLE-RADIUS=500;X-TITLE=189 Pembroke Road:geo:-71.486426,43.2147123
END:VEVENT
BEGIN:VEVENT
DTSTART;TZID=America/New_York:20290513T073000
DTEND;TZID=America/New_York:20290513T100000
DTSTAMP:20260425T075713
CREATED:20250624T174408Z
LAST-MODIFIED:20250624T174408Z
UID:10000706-1873351800-1873360800@bektashshriners.org
SUMMARY:Bektash Breakfast Buffet
DESCRIPTION:
URL:https://bektashshriners.org/event/bektash-breakfast-buffet/2029-05-13/
LOCATION:Bektash Shrine Center\, 189 Pembroke Road\, Concord\, NH\, 03302\, United States
CATEGORIES:Bektash Events
ORGANIZER;CN="Bektash Chefs":MAILTO:dixiedoo18@yahoo.com
GEO:43.2147123;-71.486426
X-APPLE-STRUCTURED-LOCATION;VALUE=URI;X-ADDRESS=Bektash Shrine Center 189 Pembroke Road Concord NH 03302 United States;X-APPLE-RADIUS=500;X-TITLE=189 Pembroke Road:geo:-71.486426,43.2147123
END:VEVENT
BEGIN:VEVENT
DTSTART;TZID=America/New_York:20290708T073000
DTEND;TZID=America/New_York:20290708T100000
DTSTAMP:20260425T075713
CREATED:20250624T174408Z
LAST-MODIFIED:20250624T174408Z
UID:10000707-1878190200-1878199200@bektashshriners.org
SUMMARY:Bektash Breakfast Buffet
DESCRIPTION:
URL:https://bektashshriners.org/event/bektash-breakfast-buffet/2029-07-08/
LOCATION:Bektash Shrine Center\, 189 Pembroke Road\, Concord\, NH\, 03302\, United States
CATEGORIES:Bektash Events
ORGANIZER;CN="Bektash Chefs":MAILTO:dixiedoo18@yahoo.com
GEO:43.2147123;-71.486426
X-APPLE-STRUCTURED-LOCATION;VALUE=URI;X-ADDRESS=Bektash Shrine Center 189 Pembroke Road Concord NH 03302 United States;X-APPLE-RADIUS=500;X-TITLE=189 Pembroke Road:geo:-71.486426,43.2147123
END:VEVENT
BEGIN:VEVENT
DTSTART;TZID=America/New_York:20290909T073000
DTEND;TZID=America/New_York:20290909T100000
DTSTAMP:20260425T075713
CREATED:20250624T174408Z
LAST-MODIFIED:20250624T174408Z
UID:10000708-1883633400-1883642400@bektashshriners.org
SUMMARY:Bektash Breakfast Buffet
DESCRIPTION:
URL:https://bektashshriners.org/event/bektash-breakfast-buffet/2029-09-09/
LOCATION:Bektash Shrine Center\, 189 Pembroke Road\, Concord\, NH\, 03302\, United States
CATEGORIES:Bektash Events
ORGANIZER;CN="Bektash Chefs":MAILTO:dixiedoo18@yahoo.com
GEO:43.2147123;-71.486426
X-APPLE-STRUCTURED-LOCATION;VALUE=URI;X-ADDRESS=Bektash Shrine Center 189 Pembroke Road Concord NH 03302 United States;X-APPLE-RADIUS=500;X-TITLE=189 Pembroke Road:geo:-71.486426,43.2147123
END:VEVENT
BEGIN:VEVENT
DTSTART;TZID=America/New_York:20291111T073000
DTEND;TZID=America/New_York:20291111T100000
DTSTAMP:20260425T075713
CREATED:20250624T174408Z
LAST-MODIFIED:20250624T174408Z
UID:10000709-1889076600-1889085600@bektashshriners.org
SUMMARY:Bektash Breakfast Buffet
DESCRIPTION:
URL:https://bektashshriners.org/event/bektash-breakfast-buffet/2029-11-11/
LOCATION:Bektash Shrine Center\, 189 Pembroke Road\, Concord\, NH\, 03302\, United States
CATEGORIES:Bektash Events
ORGANIZER;CN="Bektash Chefs":MAILTO:dixiedoo18@yahoo.com
GEO:43.2147123;-71.486426
X-APPLE-STRUCTURED-LOCATION;VALUE=URI;X-ADDRESS=Bektash Shrine Center 189 Pembroke Road Concord NH 03302 United States;X-APPLE-RADIUS=500;X-TITLE=189 Pembroke Road:geo:-71.486426,43.2147123
END:VEVENT
BEGIN:VEVENT
DTSTART;TZID=America/New_York:20300113T073000
DTEND;TZID=America/New_York:20300113T100000
DTSTAMP:20260425T075713
CREATED:20250624T174408Z
LAST-MODIFIED:20250624T174408Z
UID:10000710-1894519800-1894528800@bektashshriners.org
SUMMARY:Bektash Breakfast Buffet
DESCRIPTION:
URL:https://bektashshriners.org/event/bektash-breakfast-buffet/2030-01-13/
LOCATION:Bektash Shrine Center\, 189 Pembroke Road\, Concord\, NH\, 03302\, United States
CATEGORIES:Bektash Events
ORGANIZER;CN="Bektash Chefs":MAILTO:dixiedoo18@yahoo.com
GEO:43.2147123;-71.486426
X-APPLE-STRUCTURED-LOCATION;VALUE=URI;X-ADDRESS=Bektash Shrine Center 189 Pembroke Road Concord NH 03302 United States;X-APPLE-RADIUS=500;X-TITLE=189 Pembroke Road:geo:-71.486426,43.2147123
END:VEVENT
BEGIN:VEVENT
DTSTART;TZID=America/New_York:20300310T073000
DTEND;TZID=America/New_York:20300310T100000
DTSTAMP:20260425T075713
CREATED:20250624T174408Z
LAST-MODIFIED:20250624T174408Z
UID:10000711-1899358200-1899367200@bektashshriners.org
SUMMARY:Bektash Breakfast Buffet
DESCRIPTION:
URL:https://bektashshriners.org/event/bektash-breakfast-buffet/2030-03-10/
LOCATION:Bektash Shrine Center\, 189 Pembroke Road\, Concord\, NH\, 03302\, United States
CATEGORIES:Bektash Events
ORGANIZER;CN="Bektash Chefs":MAILTO:dixiedoo18@yahoo.com
GEO:43.2147123;-71.486426
X-APPLE-STRUCTURED-LOCATION;VALUE=URI;X-ADDRESS=Bektash Shrine Center 189 Pembroke Road Concord NH 03302 United States;X-APPLE-RADIUS=500;X-TITLE=189 Pembroke Road:geo:-71.486426,43.2147123
END:VEVENT
BEGIN:VEVENT
DTSTART;TZID=America/New_York:20300512T073000
DTEND;TZID=America/New_York:20300512T100000
DTSTAMP:20260425T075713
CREATED:20250624T174408Z
LAST-MODIFIED:20250624T174408Z
UID:10000712-1904801400-1904810400@bektashshriners.org
SUMMARY:Bektash Breakfast Buffet
DESCRIPTION:
URL:https://bektashshriners.org/event/bektash-breakfast-buffet/2030-05-12/
LOCATION:Bektash Shrine Center\, 189 Pembroke Road\, Concord\, NH\, 03302\, United States
CATEGORIES:Bektash Events
ORGANIZER;CN="Bektash Chefs":MAILTO:dixiedoo18@yahoo.com
GEO:43.2147123;-71.486426
X-APPLE-STRUCTURED-LOCATION;VALUE=URI;X-ADDRESS=Bektash Shrine Center 189 Pembroke Road Concord NH 03302 United States;X-APPLE-RADIUS=500;X-TITLE=189 Pembroke Road:geo:-71.486426,43.2147123
END:VEVENT
BEGIN:VEVENT
DTSTART;TZID=America/New_York:20300714T073000
DTEND;TZID=America/New_York:20300714T100000
DTSTAMP:20260425T075713
CREATED:20250624T174408Z
LAST-MODIFIED:20250624T174408Z
UID:10000718-1910244600-1910253600@bektashshriners.org
SUMMARY:Bektash Breakfast Buffet
DESCRIPTION:
URL:https://bektashshriners.org/event/bektash-breakfast-buffet/2030-07-14/
LOCATION:Bektash Shrine Center\, 189 Pembroke Road\, Concord\, NH\, 03302\, United States
CATEGORIES:Bektash Events
ORGANIZER;CN="Bektash Chefs":MAILTO:dixiedoo18@yahoo.com
GEO:43.2147123;-71.486426
X-APPLE-STRUCTURED-LOCATION;VALUE=URI;X-ADDRESS=Bektash Shrine Center 189 Pembroke Road Concord NH 03302 United States;X-APPLE-RADIUS=500;X-TITLE=189 Pembroke Road:geo:-71.486426,43.2147123
END:VEVENT
BEGIN:VEVENT
DTSTART;TZID=America/New_York:20300908T073000
DTEND;TZID=America/New_York:20300908T100000
DTSTAMP:20260425T075713
CREATED:20250624T174408Z
LAST-MODIFIED:20250624T174408Z
UID:10000719-1915083000-1915092000@bektashshriners.org
SUMMARY:Bektash Breakfast Buffet
DESCRIPTION:
URL:https://bektashshriners.org/event/bektash-breakfast-buffet/2030-09-08/
LOCATION:Bektash Shrine Center\, 189 Pembroke Road\, Concord\, NH\, 03302\, United States
CATEGORIES:Bektash Events
ORGANIZER;CN="Bektash Chefs":MAILTO:dixiedoo18@yahoo.com
GEO:43.2147123;-71.486426
X-APPLE-STRUCTURED-LOCATION;VALUE=URI;X-ADDRESS=Bektash Shrine Center 189 Pembroke Road Concord NH 03302 United States;X-APPLE-RADIUS=500;X-TITLE=189 Pembroke Road:geo:-71.486426,43.2147123
END:VEVENT
BEGIN:VEVENT
DTSTART;TZID=America/New_York:20301110T073000
DTEND;TZID=America/New_York:20301110T100000
DTSTAMP:20260425T075713
CREATED:20250624T174408Z
LAST-MODIFIED:20250624T174408Z
UID:10000722-1920526200-1920535200@bektashshriners.org
SUMMARY:Bektash Breakfast Buffet
DESCRIPTION:
URL:https://bektashshriners.org/event/bektash-breakfast-buffet/2030-11-10/
LOCATION:Bektash Shrine Center\, 189 Pembroke Road\, Concord\, NH\, 03302\, United States
CATEGORIES:Bektash Events
ORGANIZER;CN="Bektash Chefs":MAILTO:dixiedoo18@yahoo.com
GEO:43.2147123;-71.486426
X-APPLE-STRUCTURED-LOCATION;VALUE=URI;X-ADDRESS=Bektash Shrine Center 189 Pembroke Road Concord NH 03302 United States;X-APPLE-RADIUS=500;X-TITLE=189 Pembroke Road:geo:-71.486426,43.2147123
END:VEVENT
BEGIN:VEVENT
DTSTART;TZID=America/New_York:20310112T073000
DTEND;TZID=America/New_York:20310112T100000
DTSTAMP:20260425T075713
CREATED:20250624T174408Z
LAST-MODIFIED:20250624T174408Z
UID:10000728-1925969400-1925978400@bektashshriners.org
SUMMARY:Bektash Breakfast Buffet
DESCRIPTION:
URL:https://bektashshriners.org/event/bektash-breakfast-buffet/2031-01-12/
LOCATION:Bektash Shrine Center\, 189 Pembroke Road\, Concord\, NH\, 03302\, United States
CATEGORIES:Bektash Events
ORGANIZER;CN="Bektash Chefs":MAILTO:dixiedoo18@yahoo.com
GEO:43.2147123;-71.486426
X-APPLE-STRUCTURED-LOCATION;VALUE=URI;X-ADDRESS=Bektash Shrine Center 189 Pembroke Road Concord NH 03302 United States;X-APPLE-RADIUS=500;X-TITLE=189 Pembroke Road:geo:-71.486426,43.2147123
END:VEVENT
BEGIN:VEVENT
DTSTART;TZID=America/New_York:20310309T073000
DTEND;TZID=America/New_York:20310309T100000
DTSTAMP:20260425T075713
CREATED:20250624T174408Z
LAST-MODIFIED:20250624T174408Z
UID:10000729-1930807800-1930816800@bektashshriners.org
SUMMARY:Bektash Breakfast Buffet
DESCRIPTION:
URL:https://bektashshriners.org/event/bektash-breakfast-buffet/2031-03-09/
LOCATION:Bektash Shrine Center\, 189 Pembroke Road\, Concord\, NH\, 03302\, United States
CATEGORIES:Bektash Events
ORGANIZER;CN="Bektash Chefs":MAILTO:dixiedoo18@yahoo.com
GEO:43.2147123;-71.486426
X-APPLE-STRUCTURED-LOCATION;VALUE=URI;X-ADDRESS=Bektash Shrine Center 189 Pembroke Road Concord NH 03302 United States;X-APPLE-RADIUS=500;X-TITLE=189 Pembroke Road:geo:-71.486426,43.2147123
END:VEVENT
END:VCALENDAR